Package: ASGSCA Version: 1.41.0 Command: /home/biocbuild/bbs-3.21-bioc/R/bin/R CMD check --install=check:ASGSCA.install-out.txt --library=/home/biocbuild/bbs-3.21-bioc/R/site-library --timings ASGSCA_1.41.0.tar.gz StartedAt: 2025-02-12 19:59:36 -0500 (Wed, 12 Feb 2025) EndedAt: 2025-02-12 20:05:08 -0500 (Wed, 12 Feb 2025) EllapsedTime: 331.6 seconds RetCode: 0 Status: OK CheckDir: ASGSCA.Rcheck Warnings: 0