Package: ASICS Version: 2.23.0 Command: rm -rf ASICS.buildbin-libdir && mkdir ASICS.buildbin-libdir && /Users/biocbuild/BBS/utils/build-universal.sh ASICS_2.23.0.tar.gz /Library/Frameworks/R.framework/Resources/bin/R ASICS.buildbin-libdir StartedAt: 2025-02-09 22:06:03 -0500 (Sun, 09 Feb 2025) EndedAt: 2025-02-09 22:06:17 -0500 (Sun, 09 Feb 2025) EllapsedTime: 14.3 seconds RetCode: 0 Status: OK PackageFile: ASICS_2.23.0.tgz PackageFileSize: 4.126 MiB