Package: ASICS Version: 2.23.0 Command: /home/biocbuild/R/R/bin/R CMD INSTALL ASICS StartedAt: 2025-01-29 20:30:56 -0000 (Wed, 29 Jan 2025) EndedAt: 2025-01-29 20:31:43 -0000 (Wed, 29 Jan 2025) EllapsedTime: 46.2 seconds RetCode: 0 Status: OK