Package: ASICS Version: 2.23.0 Command: /Library/Frameworks/R.framework/Resources/bin/R CMD build --keep-empty-dirs --no-resave-data ASICS StartedAt: 2025-02-12 15:53:30 -0500 (Wed, 12 Feb 2025) EndedAt: 2025-02-12 15:57:04 -0500 (Wed, 12 Feb 2025) EllapsedTime: 213.6 seconds RetCode: 0 Status: OK PackageFile: ASICS_2.23.0.tar.gz PackageFileSize: 3.582 MiB