Package: ASICS Version: 2.23.0 Command: /Library/Frameworks/R.framework/Resources/bin/R CMD check --install=check:ASICS.install-out.txt --library=/Library/Frameworks/R.framework/Resources/library --no-vignettes --timings ASICS_2.23.0.tar.gz StartedAt: 2025-02-12 18:56:45 -0500 (Wed, 12 Feb 2025) EndedAt: 2025-02-12 19:10:19 -0500 (Wed, 12 Feb 2025) EllapsedTime: 814.3 seconds RetCode: 0 Status: WARNINGS CheckDir: ASICS.Rcheck Warnings: 1