Package: ASICS Version: 2.23.0 Command: /home/biocbuild/bbs-3.21-bioc/R/bin/R CMD check --install=check:ASICS.install-out.txt --library=/home/biocbuild/bbs-3.21-bioc/R/site-library --timings ASICS_2.23.0.tar.gz StartedAt: 2025-02-09 20:03:51 -0500 (Sun, 09 Feb 2025) EndedAt: 2025-02-09 20:17:38 -0500 (Sun, 09 Feb 2025) EllapsedTime: 827.0 seconds RetCode: 0 Status: WARNINGS CheckDir: ASICS.Rcheck Warnings: 1