Package: ASICS Version: 2.23.0 Command: E:\biocbuild\bbs-3.21-bioc\R\bin\R.exe CMD check --no-multiarch --install=check:ASICS.install-out.txt --library=E:\biocbuild\bbs-3.21-bioc\R\library --no-vignettes --timings ASICS_2.23.0.tar.gz StartedAt: 2025-02-09 22:41:11 -0500 (Sun, 09 Feb 2025) EndedAt: 2025-02-09 22:56:20 -0500 (Sun, 09 Feb 2025) EllapsedTime: 908.8 seconds RetCode: 0 Status: WARNINGS CheckDir: ASICS.Rcheck Warnings: 1