Package: ASSET Version: 2.25.0 Command: rm -rf ASSET.buildbin-libdir && mkdir ASSET.buildbin-libdir && /Users/biocbuild/BBS/utils/build-universal.sh ASSET_2.25.0.tar.gz /Library/Frameworks/R.framework/Resources/bin/R ASSET.buildbin-libdir StartedAt: 2025-02-04 22:07:53 -0500 (Tue, 04 Feb 2025) EndedAt: 2025-02-04 22:07:57 -0500 (Tue, 04 Feb 2025) EllapsedTime: 4.1 seconds RetCode: 0 Status: OK PackageFile: ASSET_2.25.0.tgz PackageFileSize: 475.5 KiB