Package: ASSET Version: 2.25.0 Command: /Library/Frameworks/R.framework/Resources/bin/R CMD INSTALL ASSET StartedAt: 2025-02-04 15:29:17 -0500 (Tue, 04 Feb 2025) EndedAt: 2025-02-04 15:29:20 -0500 (Tue, 04 Feb 2025) EllapsedTime: 3.1 seconds RetCode: 0 Status: OK