Package: ASSET Version: 2.25.0 Command: /home/biocbuild/R/R/bin/R CMD build --keep-empty-dirs --no-resave-data ASSET StartedAt: 2025-01-29 20:53:24 -0000 (Wed, 29 Jan 2025) EndedAt: 2025-01-29 20:53:45 -0000 (Wed, 29 Jan 2025) EllapsedTime: 21.0 seconds RetCode: 0 Status: OK PackageFile: ASSET_2.25.0.tar.gz PackageFileSize: 375.7 KiB