Package: ASSET Version: 2.25.0 Command: /home/biocbuild/R/R/bin/R CMD check --install=check:ASSET.install-out.txt --library=/home/biocbuild/R/R/site-library --no-vignettes --timings ASSET_2.25.0.tar.gz StartedAt: 2025-01-28 03:36:25 -0000 (Tue, 28 Jan 2025) EndedAt: 2025-01-28 03:39:00 -0000 (Tue, 28 Jan 2025) EllapsedTime: 155.2 seconds RetCode: 0 Status: OK CheckDir: ASSET.Rcheck Warnings: 0