Package: ASSET Version: 2.25.0 Command: /home/biocbuild/R/R/bin/R CMD INSTALL ASSET StartedAt: 2025-01-29 20:35:34 -0000 (Wed, 29 Jan 2025) EndedAt: 2025-01-29 20:35:45 -0000 (Wed, 29 Jan 2025) EllapsedTime: 11.1 seconds RetCode: 0 Status: OK