Package: ASSET Version: 2.25.0 Command: /Library/Frameworks/R.framework/Resources/bin/R CMD build --keep-empty-dirs --no-resave-data ASSET StartedAt: 2025-02-09 15:54:58 -0500 (Sun, 09 Feb 2025) EndedAt: 2025-02-09 15:55:21 -0500 (Sun, 09 Feb 2025) EllapsedTime: 22.9 seconds RetCode: 0 Status: OK PackageFile: ASSET_2.25.0.tar.gz PackageFileSize: 322.4 KiB