Package: ASSET Version: 2.25.0 Command: /home/biocbuild/bbs-3.21-bioc/R/bin/R CMD INSTALL ASSET StartedAt: 2025-02-04 15:07:08 -0500 (Tue, 04 Feb 2025) EndedAt: 2025-02-04 15:07:27 -0500 (Tue, 04 Feb 2025) EllapsedTime: 18.4 seconds RetCode: 0 Status: OK