Package: ASSET Version: 2.25.0 Command: rm -rf ASSET.buildbin-libdir && mkdir ASSET.buildbin-libdir && E:\biocbuild\bbs-3.21-bioc\R\bin\R.exe CMD INSTALL --build --library=ASSET.buildbin-libdir ASSET_2.25.0.tar.gz StartedAt: 2025-02-13 07:25:22 -0500 (Thu, 13 Feb 2025) EndedAt: 2025-02-13 07:25:39 -0500 (Thu, 13 Feb 2025) EllapsedTime: 16.5 seconds RetCode: 0 Status: OK PackageFile: ASSET_2.25.0.zip PackageFileSize: 478.7 KiB