Package: ASSET Version: 2.25.0 Command: chmod a+r ASSET -R && E:\biocbuild\bbs-3.21-bioc\R\bin\R.exe CMD build --keep-empty-dirs --no-resave-data ASSET StartedAt: 2025-02-09 17:16:43 -0500 (Sun, 09 Feb 2025) EndedAt: 2025-02-09 17:17:06 -0500 (Sun, 09 Feb 2025) EllapsedTime: 23.6 seconds RetCode: 0 Status: OK PackageFile: ASSET_2.25.0.tar.gz PackageFileSize: 322.4 KiB