Package: ASSIGN Version: 1.43.0 Command: rm -rf ASSIGN.buildbin-libdir && mkdir ASSIGN.buildbin-libdir && /Users/biocbuild/BBS/utils/build-universal.sh ASSIGN_1.43.0.tar.gz /Library/Frameworks/R.framework/Resources/bin/R ASSIGN.buildbin-libdir StartedAt: 2025-02-09 22:06:06 -0500 (Sun, 09 Feb 2025) EndedAt: 2025-02-09 22:06:08 -0500 (Sun, 09 Feb 2025) EllapsedTime: 2.1 seconds RetCode: 0 Status: OK PackageFile: ASSIGN_1.43.0.tgz PackageFileSize: 1.671 MiB