Package: ASSIGN Version: 1.43.0 Command: /Library/Frameworks/R.framework/Resources/bin/R CMD check --install=check:ASSIGN.install-out.txt --library=/Library/Frameworks/R.framework/Resources/library --no-vignettes --timings ASSIGN_1.43.0.tar.gz StartedAt: 2025-02-09 18:05:28 -0500 (Sun, 09 Feb 2025) EndedAt: 2025-02-09 18:05:46 -0500 (Sun, 09 Feb 2025) EllapsedTime: 18.3 seconds RetCode: 0 Status: OK CheckDir: ASSIGN.Rcheck Warnings: 0