Package: ASSIGN Version: 1.43.0 Command: /Library/Frameworks/R.framework/Resources/bin/R CMD build --keep-empty-dirs --no-resave-data ASSIGN StartedAt: 2025-02-12 15:53:40 -0500 (Wed, 12 Feb 2025) EndedAt: 2025-02-12 15:53:50 -0500 (Wed, 12 Feb 2025) EllapsedTime: 10.3 seconds RetCode: 0 Status: OK PackageFile: ASSIGN_1.43.0.tar.gz PackageFileSize: 1.621 MiB