Package: ASSIGN Version: 1.43.0 Command: /Library/Frameworks/R.framework/Resources/bin/R CMD INSTALL ASSIGN StartedAt: 2025-02-09 15:37:58 -0500 (Sun, 09 Feb 2025) EndedAt: 2025-02-09 15:38:04 -0500 (Sun, 09 Feb 2025) EllapsedTime: 5.5 seconds RetCode: 0 Status: OK