Package: ASSIGN Version: 1.43.0 Command: /home/biocbuild/bbs-3.21-bioc/R/bin/R CMD INSTALL ASSIGN StartedAt: 2025-02-09 15:28:06 -0500 (Sun, 09 Feb 2025) EndedAt: 2025-02-09 15:28:09 -0500 (Sun, 09 Feb 2025) EllapsedTime: 2.5 seconds RetCode: 0 Status: OK