Package: ASSIGN Version: 1.43.0 Command: rm -rf ASSIGN.buildbin-libdir && mkdir ASSIGN.buildbin-libdir && E:\biocbuild\bbs-3.21-bioc\R\bin\R.exe CMD INSTALL --build --library=ASSIGN.buildbin-libdir ASSIGN_1.43.0.tar.gz StartedAt: 2025-02-10 07:13:56 -0500 (Mon, 10 Feb 2025) EndedAt: 2025-02-10 07:14:16 -0500 (Mon, 10 Feb 2025) EllapsedTime: 19.4 seconds RetCode: 0 Status: OK PackageFile: ASSIGN_1.43.0.zip PackageFileSize: 1.676 MiB