Package: ASSIGN Version: 1.43.0 Command: E:\biocbuild\bbs-3.21-bioc\R\bin\R.exe CMD INSTALL ASSIGN StartedAt: 2025-02-09 16:02:18 -0500 (Sun, 09 Feb 2025) EndedAt: 2025-02-09 16:02:35 -0500 (Sun, 09 Feb 2025) EllapsedTime: 17.5 seconds RetCode: 0 Status: OK