Package: ASURAT Version: 1.11.0 Command: /home/biocbuild/R/R/bin/R CMD INSTALL ASURAT StartedAt: 2025-01-29 20:02:34 -0000 (Wed, 29 Jan 2025) EndedAt: 2025-01-29 20:03:20 -0000 (Wed, 29 Jan 2025) EllapsedTime: 45.9 seconds RetCode: 0 Status: OK