Package: ASURAT Version: 1.11.0 Command: /Library/Frameworks/R.framework/Resources/bin/R CMD INSTALL ASURAT StartedAt: 2025-02-09 15:20:52 -0500 (Sun, 09 Feb 2025) EndedAt: 2025-02-09 15:21:37 -0500 (Sun, 09 Feb 2025) EllapsedTime: 44.7 seconds RetCode: 0 Status: OK