Package: ASURAT Version: 1.11.0 Command: /home/biocbuild/bbs-3.21-bioc/R/bin/R CMD check --install=check:ASURAT.install-out.txt --library=/home/biocbuild/bbs-3.21-bioc/R/site-library --timings ASURAT_1.11.0.tar.gz StartedAt: 2025-02-09 20:04:47 -0500 (Sun, 09 Feb 2025) EndedAt: 2025-02-09 20:21:40 -0500 (Sun, 09 Feb 2025) EllapsedTime: 1013.1 seconds RetCode: 0 Status: OK CheckDir: ASURAT.Rcheck Warnings: 0