Package: ASURAT Version: 1.11.0 Command: chmod a+r ASURAT -R && E:\biocbuild\bbs-3.21-bioc\R\bin\R.exe CMD build --keep-empty-dirs --no-resave-data ASURAT StartedAt: 2025-02-09 17:17:04 -0500 (Sun, 09 Feb 2025) EndedAt: 2025-02-09 17:32:37 -0500 (Sun, 09 Feb 2025) EllapsedTime: 932.5 seconds RetCode: 0 Status: OK PackageFile: ASURAT_1.11.0.tar.gz PackageFileSize: 1.161 MiB