Package: ASURAT Version: 1.11.0 Command: E:\biocbuild\bbs-3.21-bioc\R\bin\R.exe CMD check --no-multiarch --install=check:ASURAT.install-out.txt --library=E:\biocbuild\bbs-3.21-bioc\R\library --no-vignettes --timings ASURAT_1.11.0.tar.gz StartedAt: 2025-02-09 22:41:57 -0500 (Sun, 09 Feb 2025) EndedAt: 2025-02-09 22:46:27 -0500 (Sun, 09 Feb 2025) EllapsedTime: 270.1 seconds RetCode: 0 Status: OK CheckDir: ASURAT.Rcheck Warnings: 0