Package: ASURAT Version: 1.11.0 Command: E:\biocbuild\bbs-3.21-bioc\R\bin\R.exe CMD INSTALL ASURAT StartedAt: 2025-02-09 16:32:31 -0500 (Sun, 09 Feb 2025) EndedAt: 2025-02-09 16:33:15 -0500 (Sun, 09 Feb 2025) EllapsedTime: 43.7 seconds RetCode: 0 Status: OK