Package: ATACseqQC Version: 1.31.1 Command: /Library/Frameworks/R.framework/Resources/bin/R CMD check --install=check:ATACseqQC.install-out.txt --library=/Library/Frameworks/R.framework/Resources/library --no-vignettes --timings ATACseqQC_1.31.1.tar.gz StartedAt: 2025-02-09 18:05:38 -0500 (Sun, 09 Feb 2025) EndedAt: 2025-02-09 18:09:58 -0500 (Sun, 09 Feb 2025) EllapsedTime: 260.0 seconds RetCode: 0 Status: OK CheckDir: ATACseqQC.Rcheck Warnings: 0