Package: ATACseqQC Version: 1.31.1 Command: /Library/Frameworks/R.framework/Resources/bin/R CMD build --keep-empty-dirs --no-resave-data ATACseqQC StartedAt: 2025-02-09 15:55:15 -0500 (Sun, 09 Feb 2025) EndedAt: 2025-02-09 15:58:59 -0500 (Sun, 09 Feb 2025) EllapsedTime: 224.0 seconds RetCode: 0 Status: OK PackageFile: ATACseqQC_1.31.1.tar.gz PackageFileSize: 14.77 MiB