Package: ATACseqQC Version: 1.31.1 Command: /home/biocbuild/bbs-3.21-bioc/R/bin/R CMD build --keep-empty-dirs --no-resave-data ATACseqQC StartedAt: 2025-02-09 16:10:58 -0500 (Sun, 09 Feb 2025) EndedAt: 2025-02-09 16:14:24 -0500 (Sun, 09 Feb 2025) EllapsedTime: 206.2 seconds RetCode: 0 Status: OK PackageFile: ATACseqQC_1.31.1.tar.gz PackageFileSize: 14.52 MiB