Package: ATACseqQC Version: 1.31.1 Command: /home/biocbuild/bbs-3.21-bioc/R/bin/R CMD check --install=check:ATACseqQC.install-out.txt --library=/home/biocbuild/bbs-3.21-bioc/R/site-library --timings ATACseqQC_1.31.1.tar.gz StartedAt: 2025-02-09 20:04:59 -0500 (Sun, 09 Feb 2025) EndedAt: 2025-02-09 20:18:54 -0500 (Sun, 09 Feb 2025) EllapsedTime: 834.9 seconds RetCode: 0 Status: OK CheckDir: ATACseqQC.Rcheck Warnings: 0