Package: ATACseqQC Version: 1.31.1 Command: rm -rf ATACseqQC.buildbin-libdir && mkdir ATACseqQC.buildbin-libdir && E:\biocbuild\bbs-3.21-bioc\R\bin\R.exe CMD INSTALL --build --library=ATACseqQC.buildbin-libdir ATACseqQC_1.31.1.tar.gz StartedAt: 2025-02-10 07:14:02 -0500 (Mon, 10 Feb 2025) EndedAt: 2025-02-10 07:15:33 -0500 (Mon, 10 Feb 2025) EllapsedTime: 91.0 seconds RetCode: 0 Status: OK PackageFile: ATACseqQC_1.31.1.zip PackageFileSize: 13.11 MiB