Package: ATACseqQC Version: 1.31.1 Command: E:\biocbuild\bbs-3.21-bioc\R\bin\R.exe CMD check --no-multiarch --install=check:ATACseqQC.install-out.txt --library=E:\biocbuild\bbs-3.21-bioc\R\library --no-vignettes --timings ATACseqQC_1.31.1.tar.gz StartedAt: 2025-02-09 22:42:30 -0500 (Sun, 09 Feb 2025) EndedAt: 2025-02-09 22:56:09 -0500 (Sun, 09 Feb 2025) EllapsedTime: 818.9 seconds RetCode: 0 Status: OK CheckDir: ATACseqQC.Rcheck Warnings: 0