Package: ATACseqQC Version: 1.31.1 Command: E:\biocbuild\bbs-3.21-bioc\R\bin\R.exe CMD INSTALL ATACseqQC StartedAt: 2025-02-09 16:42:16 -0500 (Sun, 09 Feb 2025) EndedAt: 2025-02-09 16:43:39 -0500 (Sun, 09 Feb 2025) EllapsedTime: 82.9 seconds RetCode: 0 Status: OK