Package: AUCell Version: 1.29.0 Command: /Library/Frameworks/R.framework/Resources/bin/R CMD INSTALL AUCell StartedAt: 2025-02-04 15:20:13 -0500 (Tue, 04 Feb 2025) EndedAt: 2025-02-04 15:20:25 -0500 (Tue, 04 Feb 2025) EllapsedTime: 12.0 seconds RetCode: 0 Status: OK