Package: AUCell Version: 1.29.0 Command: /home/biocbuild/R/R/bin/R CMD build --keep-empty-dirs --no-resave-data AUCell StartedAt: 2025-01-29 20:55:57 -0000 (Wed, 29 Jan 2025) EndedAt: 2025-01-29 20:59:12 -0000 (Wed, 29 Jan 2025) EllapsedTime: 195.1 seconds RetCode: 0 Status: OK PackageFile: AUCell_1.29.0.tar.gz PackageFileSize: 1.048 MiB