Package: AUCell Version: 1.29.0 Command: /home/biocbuild/R/R/bin/R CMD INSTALL AUCell StartedAt: 2025-01-29 20:16:50 -0000 (Wed, 29 Jan 2025) EndedAt: 2025-01-29 20:17:34 -0000 (Wed, 29 Jan 2025) EllapsedTime: 44.9 seconds RetCode: 0 Status: OK