Package: AUCell Version: 1.29.0 Command: /Library/Frameworks/R.framework/Resources/bin/R CMD build --keep-empty-dirs --no-resave-data AUCell StartedAt: 2025-02-09 15:55:44 -0500 (Sun, 09 Feb 2025) EndedAt: 2025-02-09 15:57:40 -0500 (Sun, 09 Feb 2025) EllapsedTime: 116.4 seconds RetCode: 0 Status: OK PackageFile: AUCell_1.29.0.tar.gz PackageFileSize: 2.409 MiB