Package: AUCell Version: 1.29.0 Command: E:\biocbuild\bbs-3.21-bioc\R\bin\R.exe CMD check --no-multiarch --install=check:AUCell.install-out.txt --library=E:\biocbuild\bbs-3.21-bioc\R\library --no-vignettes --timings AUCell_1.29.0.tar.gz StartedAt: 2025-02-09 22:42:54 -0500 (Sun, 09 Feb 2025) EndedAt: 2025-02-09 22:47:22 -0500 (Sun, 09 Feb 2025) EllapsedTime: 267.7 seconds RetCode: 0 Status: OK CheckDir: AUCell.Rcheck Warnings: 0