Package: AWFisher Version: 1.21.0 Maintainer: Zhiguang Huo MaintainerEmail: zhuo at ufl.edu git_url: https://git.bioconductor.org/packages/AWFisher git_branch: devel git_last_commit: 83d328b git_last_commit_date: 2024-10-29 10:38:28 -0500 (Tue, 29 Oct 2024)