Package: AWFisher Version: 1.21.0 Command: /Library/Frameworks/R.framework/Resources/bin/R CMD check --install=check:AWFisher.install-out.txt --library=/Library/Frameworks/R.framework/Resources/library --no-vignettes --timings AWFisher_1.21.0.tar.gz StartedAt: 2025-02-04 18:06:50 -0500 (Tue, 04 Feb 2025) EndedAt: 2025-02-04 18:07:08 -0500 (Tue, 04 Feb 2025) EllapsedTime: 17.2 seconds RetCode: 0 Status: OK CheckDir: AWFisher.Rcheck Warnings: 0