Package: AWFisher Version: 1.21.0 Command: /Library/Frameworks/R.framework/Resources/bin/R CMD INSTALL AWFisher StartedAt: 2025-02-04 15:03:01 -0500 (Tue, 04 Feb 2025) EndedAt: 2025-02-04 15:03:07 -0500 (Tue, 04 Feb 2025) EllapsedTime: 5.3 seconds RetCode: 0 Status: OK