Package: AWFisher Version: 1.21.0 Command: /home/biocbuild/R/R/bin/R CMD INSTALL AWFisher StartedAt: 2025-01-29 19:35:20 -0000 (Wed, 29 Jan 2025) EndedAt: 2025-01-29 19:35:32 -0000 (Wed, 29 Jan 2025) EllapsedTime: 12.1 seconds RetCode: 0 Status: OK