Package: AWFisher Version: 1.21.0 Command: rm -rf AWFisher.buildbin-libdir && mkdir AWFisher.buildbin-libdir && /Users/biocbuild/BBS/utils/build-universal.sh AWFisher_1.21.0.tar.gz /Library/Frameworks/R.framework/Resources/bin/R AWFisher.buildbin-libdir StartedAt: 2025-02-10 00:42:16 -0500 (Mon, 10 Feb 2025) EndedAt: 2025-02-10 00:42:25 -0500 (Mon, 10 Feb 2025) EllapsedTime: 8.1 seconds RetCode: 0 Status: OK PackageFile: AWFisher_1.21.0.tgz PackageFileSize: 1.439 MiB