Package: AWFisher Version: 1.21.0 Command: /Library/Frameworks/R.framework/Resources/bin/R CMD build --keep-empty-dirs --no-resave-data AWFisher StartedAt: 2025-02-09 15:55:45 -0500 (Sun, 09 Feb 2025) EndedAt: 2025-02-09 15:56:17 -0500 (Sun, 09 Feb 2025) EllapsedTime: 31.9 seconds RetCode: 0 Status: OK PackageFile: AWFisher_1.21.0.tar.gz PackageFileSize: 1.399 MiB