Package: AWFisher Version: 1.21.0 Command: /Library/Frameworks/R.framework/Resources/bin/R CMD check --install=check:AWFisher.install-out.txt --library=/Library/Frameworks/R.framework/Resources/library --no-vignettes --timings AWFisher_1.21.0.tar.gz StartedAt: 2025-02-09 19:07:12 -0500 (Sun, 09 Feb 2025) EndedAt: 2025-02-09 19:07:55 -0500 (Sun, 09 Feb 2025) EllapsedTime: 42.5 seconds RetCode: 0 Status: OK CheckDir: AWFisher.Rcheck Warnings: 0