Package: AWFisher Version: 1.21.0 Command: /Library/Frameworks/R.framework/Resources/bin/R CMD INSTALL AWFisher StartedAt: 2025-02-12 15:07:44 -0500 (Wed, 12 Feb 2025) EndedAt: 2025-02-12 15:08:10 -0500 (Wed, 12 Feb 2025) EllapsedTime: 26.0 seconds RetCode: 0 Status: OK