Package: AWFisher Version: 1.21.0 Command: rm -rf AWFisher.buildbin-libdir && mkdir AWFisher.buildbin-libdir && E:\biocbuild\bbs-3.21-bioc\R\bin\R.exe CMD INSTALL --build --library=AWFisher.buildbin-libdir AWFisher_1.21.0.tar.gz StartedAt: 2025-02-13 07:25:58 -0500 (Thu, 13 Feb 2025) EndedAt: 2025-02-13 07:26:10 -0500 (Thu, 13 Feb 2025) EllapsedTime: 12.2 seconds RetCode: 0 Status: OK PackageFile: AWFisher_1.21.0.zip PackageFileSize: 1.393 MiB